BEGIN:VCALENDAR
VERSION:2.0
PRODID:-//Guasha Opleidingen Santai - ECPv6.15.17.1//NONSGML v1.0//EN
CALSCALE:GREGORIAN
METHOD:PUBLISH
X-ORIGINAL-URL:https://guasha-opleidingen.nl
X-WR-CALDESC:Evenementen voor Guasha Opleidingen Santai
REFRESH-INTERVAL;VALUE=DURATION:PT1H
X-Robots-Tag:noindex
X-PUBLISHED-TTL:PT1H
BEGIN:VTIMEZONE
TZID:Europe/Amsterdam
BEGIN:DAYLIGHT
TZOFFSETFROM:+0100
TZOFFSETTO:+0200
TZNAME:CEST
DTSTART:20230326T010000
END:DAYLIGHT
BEGIN:STANDARD
TZOFFSETFROM:+0200
TZOFFSETTO:+0100
TZNAME:CET
DTSTART:20231029T010000
END:STANDARD
BEGIN:DAYLIGHT
TZOFFSETFROM:+0100
TZOFFSETTO:+0200
TZNAME:CEST
DTSTART:20240331T010000
END:DAYLIGHT
BEGIN:STANDARD
TZOFFSETFROM:+0200
TZOFFSETTO:+0100
TZNAME:CET
DTSTART:20241027T010000
END:STANDARD
BEGIN:DAYLIGHT
TZOFFSETFROM:+0100
TZOFFSETTO:+0200
TZNAME:CEST
DTSTART:20250330T010000
END:DAYLIGHT
BEGIN:STANDARD
TZOFFSETFROM:+0200
TZOFFSETTO:+0100
TZNAME:CET
DTSTART:20251026T010000
END:STANDARD
END:VTIMEZONE
BEGIN:VEVENT
DTSTART;TZID=Europe/Amsterdam:20240511T093000
DTEND;TZID=Europe/Amsterdam:20240511T170000
DTSTAMP:20260422T165655
CREATED:20240407T111117Z
LAST-MODIFIED:20240407T111117Z
UID:3414-1715419800-1715446800@guasha-opleidingen.nl
SUMMARY:Guasha module 3
DESCRIPTION:
URL:https://guasha-opleidingen.nl/agenda-overzicht/guasha-module-3-4/
LOCATION:Eindhoven\, Celebeslaan 30\, Eindhoven\, 5641 AG\, Netherlands
END:VEVENT
BEGIN:VEVENT
DTSTART;TZID=Europe/Amsterdam:20240526T093000
DTEND;TZID=Europe/Amsterdam:20240526T170000
DTSTAMP:20260422T165655
CREATED:20240407T111030Z
LAST-MODIFIED:20240407T111030Z
UID:3412-1716715800-1716742800@guasha-opleidingen.nl
SUMMARY:Guasha module 7
DESCRIPTION:
URL:https://guasha-opleidingen.nl/agenda-overzicht/guasha-module-7-3/
LOCATION:Eindhoven\, Celebeslaan 30\, Eindhoven\, 5641 AG\, Netherlands
END:VEVENT
END:VCALENDAR